BEGIN:VCALENDAR
VERSION:2.0
PRODID:-//wp-events-plugin.com//7.2.3.1//EN
TZID:America/Chicago
X-WR-TIMEZONE:America/Chicago
BEGIN:VEVENT
UID:21@allianceforwaterefficiency.org
DTSTART;TZID=America/Chicago:20250327T130000
DTEND;TZID=America/Chicago:20250327T140000
DTSTAMP:20250324T145801Z
URL:https://allianceforwaterefficiency.org/events/conservation-ami-committ
 ee/
SUMMARY:Conservation + AMI Committee
DESCRIPTION:Purpose: To provide a forum for water utility agencies to lear
 n and share ideas\, experiences\, and lessons learned about AMI systems an
 d how they use AMI to advance their water conservation and efficiency stra
 tegies. Organizations at all points along the AMI journey are welcome to a
 ttend and participate in the group.\n\nTo Join: Contact Amanda Christoph
 e\n\n2025 Meeting Schedule: \n\n 	Q1: March 27 - Leveraging AMI for Leak 
 Detection &amp\; Repair\n 	Q2: June 26\n 	Q3: September 18\n 	Q4: December
  11\n
ATTACH;FMTTYPE=image/jpeg:https://allianceforwaterefficiency.org/wp-conten
 t/uploads/2025/01/x-AWE-color-horizontal.jpg
CATEGORIES:Committee Meeting
END:VEVENT
BEGIN:VTIMEZONE
TZID:America/Chicago
X-LIC-LOCATION:America/Chicago
BEGIN:DAYLIGHT
DTSTART:20250309T030000
TZOFFSETFROM:-0600
TZOFFSETTO:-0500
TZNAME:CDT
END:DAYLIGHT
END:VTIMEZONE
END:VCALENDAR